BEGIN:VCALENDAR
VERSION:2.0
PRODID:-//Melbourne Coffee Week - ECPv4.6.10.1//NONSGML v1.0//EN
CALSCALE:GREGORIAN
METHOD:PUBLISH
X-WR-CALNAME:Melbourne Coffee Week
X-ORIGINAL-URL:https://melbournecoffeeweek.com.au
X-WR-CALDESC:Events for Melbourne Coffee Week
BEGIN:VEVENT
DTSTART;TZID=Australia/Melbourne:20180320T083000
DTEND;TZID=Australia/Melbourne:20180320T170000
DTSTAMP:20180225T041322
CREATED:20180103T230709Z
LAST-MODIFIED:20180103T230839Z
UID:1726-1521534600-1521565200@melbournecoffeeweek.com.au
SUMMARY:FIRESTARTER: A Day of Roasting Lectures with Rob Hoos & Roastress Coops
DESCRIPTION:Equilibrium Master Roasters is proud to kick start your week at MICE with an Inspirational Day of Roasting Lectures presented by Rob Hoos & Roastress Coops at Proud Mary Coffee Roasters! \nThis day is an opportunity to stoke that fire in your belly and network and meet with industry professionals as well as continue to build on\, further enhance and explore your skills and knowledge in the blazing world of coffee roasting! \nIt will be the same lectures presented on both dates\, so just choose a date that suits! \nWith a jam packed day of Lectures\, Discussion\, Networking\, Exploration & Cupping Analysis from 8.30am-5pm\, we hope you take the opportunity\, whilst he is here in Melbourne\, to come and learn from Rob (& Anne) on the following topics which will be presented: \n* Basics of Coffee Physically and Chemically \n* Heat Transfer & Thermocouples in Coffee Roasters \n* Modulating the Flavor Profile of Coffee \n* Can You Taste the Roasting System \n* Roasting Techniques/Forum Discussion & Beer! \n
URL:https://melbournecoffeeweek.com.au/event/smart-beans-event/2018-03-20/
LOCATION:200 Wellington Street\, Collingwood\, VIC\, 3066\, Australia
GEO:-37.8028134;144.9869912
X-APPLE-STRUCTURED-LOCATION;VALUE=URI;X-ADDRESS=200 Wellington Street Collingwood VIC 3066 Australia;X-APPLE-RADIUS=500;X-TITLE=200 Wellington Street:geo:144.9869912,-37.8028134
ATTACH;FMTTYPE=image/jpeg:https://melbournecoffeeweek.com.au/wp-content/uploads/2018/01/Eventbrite-Page.jpg
END:VEVENT
BEGIN:VEVENT
DTSTART;TZID=Australia/Melbourne:20180320T190000
DTEND;TZID=Australia/Melbourne:20180320T220000
DTSTAMP:20180225T041322
CREATED:20180215T025031Z
LAST-MODIFIED:20180220T225224Z
UID:1756-1521572400-1521583200@melbournecoffeeweek.com.au
SUMMARY:Boost your Business: 7 steps to growing your cafe's profit
DESCRIPTION:Have you ever thought what it would be like to not only make good coffee and food but to run a financially successful business?\nHave you ever wondered why you’re not making more profit?\nHave you ever wondered what the ‘secret’ to running a successful cafe really is?  \nWell\, stop wondering.  \nThis event is designed for cafe owners and managers who want to improve their business\, make more profit\, and accelerate their journey to success. The team at Rumble Coffee Roasters are passionate about making great coffee and helping cafe owners sell more coffee. And they also want cafe owners to achieve success and run better businesses.  \nAfter having spent many years fighting the good fight in the trenches of the coffee industry\, and having built everything from the ground up\, they’re ready to share their knowledge with you.  \nAnd they’re bringing out the big guns this time. Nadi Elias joins Team Rumble to deliver an insightful\, inspiring and caffeinated event to share with you the steps you need to take\, right now\, to make your business more profitable. Nadi is a growth accountant specialising in working with cafe and coffee entrepreneurs. He heads up Melbourne and Sydney advisory firm Equus Partners and is addicted to speciality coffee and business.  \nIn October 2017\, Nadi launched his book Count More Beans: 7 steps to making more profit\, having more cash and maximising the value of your cafe. Since launching his book\, cafe owners from around the world have praised the book’s guidance and approach. His straight-up advice is enlightening at the least. Get your notebook ready\, because you’ll be leaving with some inspiring action points to implement. Places are limited. Tickets are available for purchase from Eventbrite: https://www.eventbrite.com.au/e/boost-your-business-7-steps-to-growing-your-cafes-profit-tickets-43299023545 \n
URL:https://melbournecoffeeweek.com.au/event/boost-business-7-steps-growing-cafes-profit/
LOCATION:8 Thompson Street\, Kensington\, VIC\, 3031\, Australia
GEO:-37.7924293;144.9343855
X-APPLE-STRUCTURED-LOCATION;VALUE=URI;X-ADDRESS=8 Thompson Street Kensington VIC 3031 Australia;X-APPLE-RADIUS=500;X-TITLE=8 Thompson Street:geo:144.9343855,-37.7924293
ATTACH;FMTTYPE=image/png:https://melbournecoffeeweek.com.au/wp-content/uploads/2018/02/Screen-Shot-2018-02-21-at-9.47.00-AM.png
ORGANIZER;CN="Rumble%20Coffee%20Roasters":MAILTO:info@rumblecoffee.com.au
END:VEVENT
BEGIN:VEVENT
DTSTART;TZID=Australia/Melbourne:20180321T083000
DTEND;TZID=Australia/Melbourne:20180321T170000
DTSTAMP:20180225T041322
CREATED:20180103T230709Z
LAST-MODIFIED:20180103T230839Z
UID:1731-1521621000-1521651600@melbournecoffeeweek.com.au
SUMMARY:FIRESTARTER: A Day of Roasting Lectures with Rob Hoos & Roastress Coops
DESCRIPTION:Equilibrium Master Roasters is proud to kick start your week at MICE with an Inspirational Day of Roasting Lectures presented by Rob Hoos & Roastress Coops at Proud Mary Coffee Roasters! \nThis day is an opportunity to stoke that fire in your belly and network and meet with industry professionals as well as continue to build on\, further enhance and explore your skills and knowledge in the blazing world of coffee roasting! \nIt will be the same lectures presented on both dates\, so just choose a date that suits! \nWith a jam packed day of Lectures\, Discussion\, Networking\, Exploration & Cupping Analysis from 8.30am-5pm\, we hope you take the opportunity\, whilst he is here in Melbourne\, to come and learn from Rob (& Anne) on the following topics which will be presented: \n* Basics of Coffee Physically and Chemically \n* Heat Transfer & Thermocouples in Coffee Roasters \n* Modulating the Flavor Profile of Coffee \n* Can You Taste the Roasting System \n* Roasting Techniques/Forum Discussion & Beer! \n
URL:https://melbournecoffeeweek.com.au/event/smart-beans-event/2018-03-21/
LOCATION:200 Wellington Street\, Collingwood\, VIC\, 3066\, Australia
GEO:-37.8028134;144.9869912
X-APPLE-STRUCTURED-LOCATION;VALUE=URI;X-ADDRESS=200 Wellington Street Collingwood VIC 3066 Australia;X-APPLE-RADIUS=500;X-TITLE=200 Wellington Street:geo:144.9869912,-37.8028134
ATTACH;FMTTYPE=image/jpeg:https://melbournecoffeeweek.com.au/wp-content/uploads/2018/01/Eventbrite-Page.jpg
END:VEVENT
BEGIN:VEVENT
DTSTART;TZID=Australia/Melbourne:20180322T090000
DTEND;TZID=Australia/Melbourne:20180324T170000
DTSTAMP:20180225T041322
CREATED:20171211T234148Z
LAST-MODIFIED:20171212T032445Z
UID:1704-1521709200-1521910800@melbournecoffeeweek.com.au
SUMMARY:2018 ASCA Australian Coffee Championships
DESCRIPTION:The 2018 ASCA Australian Coffee Championships will once again take place at the Melbourne International Coffee Expo. \n
URL:https://melbournecoffeeweek.com.au/event/2018-asca-australian-coffee-championships/
LOCATION:Epsom Road\, Ascot Vale\, VIC\, 3032\, Australia
GEO:-37.7774694;144.911777
X-APPLE-STRUCTURED-LOCATION;VALUE=URI;X-ADDRESS=Epsom Road Ascot Vale VIC 3032 Australia;X-APPLE-RADIUS=500;X-TITLE=Epsom Road:geo:144.911777,-37.7774694
ATTACH;FMTTYPE=image/gif:https://melbournecoffeeweek.com.au/wp-content/uploads/2017/12/nationals2017.gif
ORGANIZER;CN="Australian%20Specialty%20Coffee%20Association":MAILTO:info@aasca.com
END:VEVENT
BEGIN:VEVENT
DTSTART;TZID=Australia/Melbourne:20180322T100000
DTEND;TZID=Australia/Melbourne:20180324T170000
DTSTAMP:20180225T041322
CREATED:20171211T233848Z
LAST-MODIFIED:20171212T032237Z
UID:1701-1521712800-1521910800@melbournecoffeeweek.com.au
SUMMARY:MICE2018
DESCRIPTION:ASIA PACIFIC’S LARGEST SPECIALTY COFFEE EVENT\nNow in its seventh year\, MICE is known throughout the Asia Pacific as the largest and most exciting dedicated coffee event. A phenomenal 9\,646 café owners\, roasters\, baristas\, equipment manufacturers\, service providers and more flocked to the Melbourne Showgrounds in 2017 to experience everything the specialty coffee industry has to offer! \n
URL:https://melbournecoffeeweek.com.au/event/mice2018/
LOCATION:Epsom Road\, Ascot Vale\, VIC\, 3032\, Australia
GEO:-37.7774694;144.911777
X-APPLE-STRUCTURED-LOCATION;VALUE=URI;X-ADDRESS=Epsom Road Ascot Vale VIC 3032 Australia;X-APPLE-RADIUS=500;X-TITLE=Epsom Road:geo:144.911777,-37.7774694
ATTACH;FMTTYPE=image/jpeg:https://melbournecoffeeweek.com.au/wp-content/uploads/2017/12/Untitled_Panorama1.jpg
END:VEVENT
END:VCALENDAR